BEGIN:VCALENDAR
VERSION:2.0
PRODID:-//PDX Events - ECPv6.15.7//NONSGML v1.0//EN
CALSCALE:GREGORIAN
METHOD:PUBLISH
X-WR-CALNAME:PDX Events
X-ORIGINAL-URL:https://pdx.events
X-WR-CALDESC:Events for PDX Events
REFRESH-INTERVAL;VALUE=DURATION:PT1H
X-Robots-Tag:noindex
X-PUBLISHED-TTL:PT1H
BEGIN:VTIMEZONE
TZID:America/Los_Angeles
BEGIN:DAYLIGHT
TZOFFSETFROM:-0800
TZOFFSETTO:-0700
TZNAME:PDT
DTSTART:20250309T100000
END:DAYLIGHT
BEGIN:STANDARD
TZOFFSETFROM:-0700
TZOFFSETTO:-0800
TZNAME:PST
DTSTART:20251102T090000
END:STANDARD
BEGIN:DAYLIGHT
TZOFFSETFROM:-0800
TZOFFSETTO:-0700
TZNAME:PDT
DTSTART:20260308T100000
END:DAYLIGHT
BEGIN:STANDARD
TZOFFSETFROM:-0700
TZOFFSETTO:-0800
TZNAME:PST
DTSTART:20261101T090000
END:STANDARD
BEGIN:DAYLIGHT
TZOFFSETFROM:-0800
TZOFFSETTO:-0700
TZNAME:PDT
DTSTART:20270314T100000
END:DAYLIGHT
BEGIN:STANDARD
TZOFFSETFROM:-0700
TZOFFSETTO:-0800
TZNAME:PST
DTSTART:20271107T090000
END:STANDARD
END:VTIMEZONE
BEGIN:VEVENT
DTSTART;VALUE=DATE:20260418
DTEND;VALUE=DATE:20260419
DTSTAMP:20260422T091630
CREATED:20260417T052906Z
LAST-MODIFIED:20260417T052906Z
UID:10017921-1776470400-1776556799@pdx.events
SUMMARY:APRIL 18th: Black Smurf Live in Portland\, OR With Diego Money
DESCRIPTION:Join us for an exciting all-ages event featuring Diego Money! Doors open at 7 PM\, providing the perfect opportunity to enjoy a night filled with entertainment. After the performance\, attendees will have the chance to participate in a meet and greet session\, allowing fans to connect directly with Diego. For any inquiries regarding the performance details or vendor information\, feel free to reach out via text. Don’t miss out on this fantastic night of music and community engagement!
URL:https://pdx.events/event/april-18th-black-smurf-live-in-portland-or-with-diego-money-2026-04-18/
LOCATION:The Off Beat\, 8440 N Interstate Ave\, Portland\, Oregon\, United States
CATEGORIES:Music
ATTACH;FMTTYPE=image/jpeg:https://pdx.events/wp-content/uploads/2026/04/april-18th-black-smurf-live-in-portland-or-with-diego-money-2026-04-18.jpg
END:VEVENT
END:VCALENDAR