BEGIN:VCALENDAR
VERSION:2.0
PRODID:-//PDX Events - ECPv6.15.7//NONSGML v1.0//EN
CALSCALE:GREGORIAN
METHOD:PUBLISH
X-WR-CALNAME:PDX Events
X-ORIGINAL-URL:https://pdx.events
X-WR-CALDESC:Events for PDX Events
REFRESH-INTERVAL;VALUE=DURATION:PT1H
X-Robots-Tag:noindex
X-PUBLISHED-TTL:PT1H
BEGIN:VTIMEZONE
TZID:America/Los_Angeles
BEGIN:DAYLIGHT
TZOFFSETFROM:-0800
TZOFFSETTO:-0700
TZNAME:PDT
DTSTART:20250309T100000
END:DAYLIGHT
BEGIN:STANDARD
TZOFFSETFROM:-0700
TZOFFSETTO:-0800
TZNAME:PST
DTSTART:20251102T090000
END:STANDARD
BEGIN:DAYLIGHT
TZOFFSETFROM:-0800
TZOFFSETTO:-0700
TZNAME:PDT
DTSTART:20260308T100000
END:DAYLIGHT
BEGIN:STANDARD
TZOFFSETFROM:-0700
TZOFFSETTO:-0800
TZNAME:PST
DTSTART:20261101T090000
END:STANDARD
BEGIN:DAYLIGHT
TZOFFSETFROM:-0800
TZOFFSETTO:-0700
TZNAME:PDT
DTSTART:20270314T100000
END:DAYLIGHT
BEGIN:STANDARD
TZOFFSETFROM:-0700
TZOFFSETTO:-0800
TZNAME:PST
DTSTART:20271107T090000
END:STANDARD
END:VTIMEZONE
BEGIN:VEVENT
DTSTART;VALUE=DATE:20260418
DTEND;VALUE=DATE:20260419
DTSTAMP:20260422T021659
CREATED:20260419T052807Z
LAST-MODIFIED:20260419T052807Z
UID:10018011-1776470400-1776556799@pdx.events
SUMMARY:Spill The Tea: The Discovering Spill
DESCRIPTION:Join us for an evening of laughter at our stand-up comedy showcase\, where an impressive lineup of talented comedians will take the stage to entertain you. Experience a night filled with humor and wit in a safe environment\, as face masks are required for all attendees. Performers who complete two COVID tests prior to the show will have the option to perform without masks. Don’t miss this opportunity to enjoy a night of comedy while supporting local artists. Prepare for an unforgettable experience that highlights the vibrant comedy scene in Portland\, OR.
URL:https://pdx.events/event/spill-the-tea-the-discovering-spill-2026-04-18/
LOCATION:SWANA Rose Culture + Community Center\, 2942 NE Martin Luther King Jr Blvd\, Portland\, Oregon\, United States
CATEGORIES:Comedy
ATTACH;FMTTYPE=image/jpeg:https://pdx.events/wp-content/uploads/2026/04/spill-the-tea-the-discovering-spill-2026-04-18.jpg
END:VEVENT
END:VCALENDAR