BEGIN:VCALENDAR
VERSION:2.0
PRODID:-//PDX Events - ECPv6.15.7//NONSGML v1.0//EN
CALSCALE:GREGORIAN
METHOD:PUBLISH
X-ORIGINAL-URL:https://pdx.events
X-WR-CALDESC:Events for PDX Events
REFRESH-INTERVAL;VALUE=DURATION:PT1H
X-Robots-Tag:noindex
X-PUBLISHED-TTL:PT1H
BEGIN:VTIMEZONE
TZID:America/Los_Angeles
BEGIN:DAYLIGHT
TZOFFSETFROM:-0800
TZOFFSETTO:-0700
TZNAME:PDT
DTSTART:20240310T100000
END:DAYLIGHT
BEGIN:STANDARD
TZOFFSETFROM:-0700
TZOFFSETTO:-0800
TZNAME:PST
DTSTART:20241103T090000
END:STANDARD
BEGIN:DAYLIGHT
TZOFFSETFROM:-0800
TZOFFSETTO:-0700
TZNAME:PDT
DTSTART:20250309T100000
END:DAYLIGHT
BEGIN:STANDARD
TZOFFSETFROM:-0700
TZOFFSETTO:-0800
TZNAME:PST
DTSTART:20251102T090000
END:STANDARD
BEGIN:DAYLIGHT
TZOFFSETFROM:-0800
TZOFFSETTO:-0700
TZNAME:PDT
DTSTART:20260308T100000
END:DAYLIGHT
BEGIN:STANDARD
TZOFFSETFROM:-0700
TZOFFSETTO:-0800
TZNAME:PST
DTSTART:20261101T090000
END:STANDARD
END:VTIMEZONE
BEGIN:VEVENT
DTSTART;VALUE=DATE:20250518
DTEND;VALUE=DATE:20250519
DTSTAMP:20260420T023018
CREATED:20250517T033816Z
LAST-MODIFIED:20250517T033816Z
UID:10005744-1747526400-1747612799@pdx.events
SUMMARY:A Book and a Beer with Jeff VanderMeer Event
DESCRIPTION:SOLD OUT! Get ready for an unforgettable evening as we join forces with Steeplejack Brewing for a unique happy hour featuring acclaimed author Jeff VanderMeer. This isn’t just any happy hour; it’s a chance to dive deep into captivating discussions\, sip on exquisite brews\, and mingle with colleagues and fellow literary enthusiasts. Think of it as a blend of craft beer and mind-bending fiction\, all set in a laid-back brewery atmosphere. Don’t miss out on the chance to engage with one of the most innovative storytellers of our time—stay tuned for future events\, because you’ll want to be part of this literary journey in Portland!
URL:https://pdx.events/event/a-book-and-a-beer-with-jeff-vandermeer-event/
LOCATION:Powell’s Books on Hawthorne\, 3723 SE Hawthorne Blvd\, Portland\, OR\, United States
CATEGORIES:Social
ATTACH;FMTTYPE=image/jpeg:https://pdx.events/wp-content/uploads/2025/05/202341747453096.jpg
END:VEVENT
BEGIN:VEVENT
DTSTART;VALUE=DATE:20250518
DTEND;VALUE=DATE:20250519
DTSTAMP:20260420T023018
CREATED:20250504T153916Z
LAST-MODIFIED:20250504T153917Z
UID:10005491-1747526400-1747612799@pdx.events
SUMMARY:A Book and a Beer with Jeff VanderMeer
DESCRIPTION:Join Powell’s Books on Hawthorne for an electrifying evening with celebrated author Jeff VanderMeer\, fueled by Steeplejack Brewing’s craft creations. “A Book and a Beer” promises an intimate dive into VanderMeer’s mind\, exploring the dense\, surreal landscapes of his acclaimed works. Sip on innovative brews while engaging with one of fantasy’s most audacious voices. Whether you’re a longtime fan or a curious newcomer\, this event offers a unique blend of literary insight and local flavor you won’t want to miss. Come for the words\, stay for the craft beer – and get ready to redefine your readings!
URL:https://pdx.events/event/a-book-and-a-beer-with-jeff-vandermeer/
LOCATION:Powell’s Books on Hawthorne\, 3723 SE Hawthorne Blvd\, Portland\, OR\, United States
CATEGORIES:Food And Drink
ATTACH;FMTTYPE=image/jpeg:https://pdx.events/wp-content/uploads/2025/05/194631746373157.jpg
END:VEVENT
END:VCALENDAR