BEGIN:VCALENDAR
VERSION:2.0
PRODID:-//PDX Events - ECPv6.15.7//NONSGML v1.0//EN
CALSCALE:GREGORIAN
METHOD:PUBLISH
X-WR-CALNAME:PDX Events
X-ORIGINAL-URL:https://pdx.events
X-WR-CALDESC:Events for PDX Events
REFRESH-INTERVAL;VALUE=DURATION:PT1H
X-Robots-Tag:noindex
X-PUBLISHED-TTL:PT1H
BEGIN:VTIMEZONE
TZID:America/Los_Angeles
BEGIN:DAYLIGHT
TZOFFSETFROM:-0800
TZOFFSETTO:-0700
TZNAME:PDT
DTSTART:20250309T100000
END:DAYLIGHT
BEGIN:STANDARD
TZOFFSETFROM:-0700
TZOFFSETTO:-0800
TZNAME:PST
DTSTART:20251102T090000
END:STANDARD
BEGIN:DAYLIGHT
TZOFFSETFROM:-0800
TZOFFSETTO:-0700
TZNAME:PDT
DTSTART:20260308T100000
END:DAYLIGHT
BEGIN:STANDARD
TZOFFSETFROM:-0700
TZOFFSETTO:-0800
TZNAME:PST
DTSTART:20261101T090000
END:STANDARD
BEGIN:DAYLIGHT
TZOFFSETFROM:-0800
TZOFFSETTO:-0700
TZNAME:PDT
DTSTART:20270314T100000
END:DAYLIGHT
BEGIN:STANDARD
TZOFFSETFROM:-0700
TZOFFSETTO:-0800
TZNAME:PST
DTSTART:20271107T090000
END:STANDARD
END:VTIMEZONE
BEGIN:VEVENT
DTSTART;VALUE=DATE:20260423
DTEND;VALUE=DATE:20260424
DTSTAMP:20260421T105112
CREATED:20260420T052812Z
LAST-MODIFIED:20260420T052812Z
UID:10018021-1776902400-1776988799@pdx.events
SUMMARY:Thursday Trivia at Hawthorne Street Food & Bar
DESCRIPTION:Gather your friends and head over every Thursday at 7 PM for an exciting night of trivia hosted by Portland Independent’s Technically Correct Trivia. Test your knowledge across a variety of topics\, enjoy a lively atmosphere\, and compete for fantastic prizes awarded to the top-performing teams. Whether you’re a trivia master or a casual participant\, it’s a great opportunity to enjoy a fun evening in the heart of Portland. Don’t miss out on the chance to showcase your skills and have a blast with fellow trivia enthusiasts!
URL:https://pdx.events/event/thursday-trivia-at-hawthorne-street-food-amp-bar-2026-04-23/
LOCATION:Manly and Sons Barber Co.\, 4224 SE Hawthorne Blvd\, Portland\, Oregon\, United States
CATEGORIES:Competition
ATTACH;FMTTYPE=image/png:https://pdx.events/wp-content/uploads/2026/04/thursday-trivia-at-hawthorne-street-food-amp-bar-2026-04-23.png
END:VEVENT
BEGIN:VEVENT
DTSTART;VALUE=DATE:20260423
DTEND;VALUE=DATE:20260424
DTSTAMP:20260421T105112
CREATED:20260420T052812Z
LAST-MODIFIED:20260420T052812Z
UID:10018022-1776902400-1776988799@pdx.events
SUMMARY:Thursday Trivia at Hawthorne Street Food & Bar
DESCRIPTION:Gather your friends for an exciting evening of trivia at Portland Independent every Thursday at 7 PM! Test your knowledge and compete for fantastic prizes as you join the Technically Correct Trivia event. This fun-filled night not only challenges your intellect but also encourages teamwork and friendly competition. Whether you’re a trivia buff or just looking for a lively night out\, this event promises engaging questions and a vibrant atmosphere. Don’t miss your chance to showcase your smarts and enjoy a great time in the heart of Portland!
URL:https://pdx.events/event/thursday-trivia-at-hawthorne-street-food-amp-bar-2026-04-23-2/
LOCATION:Manly and Sons Barber Co.\, 4224 SE Hawthorne Blvd\, Portland\, Oregon\, United States
CATEGORIES:Competition
ATTACH;FMTTYPE=image/png:https://pdx.events/wp-content/uploads/2026/04/thursday-trivia-at-hawthorne-street-food-amp-bar-2026-04-23-1.png
END:VEVENT
END:VCALENDAR