BEGIN:VCALENDAR
VERSION:2.0
PRODID:-//PDX Events - ECPv6.15.7//NONSGML v1.0//EN
CALSCALE:GREGORIAN
METHOD:PUBLISH
X-ORIGINAL-URL:https://pdx.events
X-WR-CALDESC:Events for PDX Events
REFRESH-INTERVAL;VALUE=DURATION:PT1H
X-Robots-Tag:noindex
X-PUBLISHED-TTL:PT1H
BEGIN:VTIMEZONE
TZID:America/Los_Angeles
BEGIN:DAYLIGHT
TZOFFSETFROM:-0800
TZOFFSETTO:-0700
TZNAME:PDT
DTSTART:20240310T100000
END:DAYLIGHT
BEGIN:STANDARD
TZOFFSETFROM:-0700
TZOFFSETTO:-0800
TZNAME:PST
DTSTART:20241103T090000
END:STANDARD
BEGIN:DAYLIGHT
TZOFFSETFROM:-0800
TZOFFSETTO:-0700
TZNAME:PDT
DTSTART:20250309T100000
END:DAYLIGHT
BEGIN:STANDARD
TZOFFSETFROM:-0700
TZOFFSETTO:-0800
TZNAME:PST
DTSTART:20251102T090000
END:STANDARD
BEGIN:DAYLIGHT
TZOFFSETFROM:-0800
TZOFFSETTO:-0700
TZNAME:PDT
DTSTART:20260308T100000
END:DAYLIGHT
BEGIN:STANDARD
TZOFFSETFROM:-0700
TZOFFSETTO:-0800
TZNAME:PST
DTSTART:20261101T090000
END:STANDARD
END:VTIMEZONE
BEGIN:VEVENT
DTSTART;VALUE=DATE:20250828
DTEND;VALUE=DATE:20250829
DTSTAMP:20260420T022907
CREATED:20250827T160610Z
LAST-MODIFIED:20250827T160610Z
UID:10010231-1756339200-1756425599@pdx.events
SUMMARY:Negroni Night at the Little Bitter Bar
DESCRIPTION:Step into the Little Bitter Bar\, where the legacy of amaro comes alive! These bittersweet herbal liqueurs\, tracing their roots back to the Middle Ages\, are celebrated in Italian dining culture. Join us for a captivating journey through the world of amari—perfect for sipping or mixing into your favorite cocktails. Immerse yourself in the ambience\, discover unique local variations\, and learn about their fascinating history and production methods. Whether you’re an amaro aficionado or a curious newbie\, this event promises to elevate your palate and expand your appreciation for these liquid marvels. Don’t miss out on this intoxicating experience!
URL:https://pdx.events/event/negroni-night-at-the-little-bitter-bar-2/
LOCATION:Little Bitter Bar\, 509 SE Grand Ave\, Portland\, OR\, United States
END:VEVENT
BEGIN:VEVENT
DTSTART;VALUE=DATE:20250828
DTEND;VALUE=DATE:20250829
DTSTAMP:20260420T022907
CREATED:20250827T155133Z
LAST-MODIFIED:20250827T155133Z
UID:10010217-1756339200-1756425599@pdx.events
SUMMARY:Negroni Night at the Little Bitter Bar
DESCRIPTION:Dive into the world of amaro at The Little Bitter Bar\, where the vibrant spirit of Italy meets Portland’s cocktail scene. Experience the bittersweet allure of herbal liqueurs that have dazzled taste buds since the Middle Ages. This event will take you on a journey through time\, showcasing the rich history and intricate flavors of amari\, perfect for both connoisseurs and curious newbies. Sip on expertly crafted cocktails that highlight these unique flavors while learning about the cultural significance of amari in Italian dining. Join us for a night where history and mixology collide!
URL:https://pdx.events/event/negroni-night-at-the-little-bitter-bar/
LOCATION:Little Bitter Bar\, 509 SE Grand Ave\, Portland\, OR\, United States
END:VEVENT
END:VCALENDAR