BEGIN:VCALENDAR
VERSION:2.0
PRODID:-//PDX Events - ECPv6.15.7//NONSGML v1.0//EN
CALSCALE:GREGORIAN
METHOD:PUBLISH
X-WR-CALNAME:PDX Events
X-ORIGINAL-URL:https://pdx.events
X-WR-CALDESC:Events for PDX Events
REFRESH-INTERVAL;VALUE=DURATION:PT1H
X-Robots-Tag:noindex
X-PUBLISHED-TTL:PT1H
BEGIN:VTIMEZONE
TZID:America/Los_Angeles
BEGIN:DAYLIGHT
TZOFFSETFROM:-0800
TZOFFSETTO:-0700
TZNAME:PDT
DTSTART:20240310T100000
END:DAYLIGHT
BEGIN:STANDARD
TZOFFSETFROM:-0700
TZOFFSETTO:-0800
TZNAME:PST
DTSTART:20241103T090000
END:STANDARD
BEGIN:DAYLIGHT
TZOFFSETFROM:-0800
TZOFFSETTO:-0700
TZNAME:PDT
DTSTART:20250309T100000
END:DAYLIGHT
BEGIN:STANDARD
TZOFFSETFROM:-0700
TZOFFSETTO:-0800
TZNAME:PST
DTSTART:20251102T090000
END:STANDARD
BEGIN:DAYLIGHT
TZOFFSETFROM:-0800
TZOFFSETTO:-0700
TZNAME:PDT
DTSTART:20260308T100000
END:DAYLIGHT
BEGIN:STANDARD
TZOFFSETFROM:-0700
TZOFFSETTO:-0800
TZNAME:PST
DTSTART:20261101T090000
END:STANDARD
BEGIN:DAYLIGHT
TZOFFSETFROM:-0800
TZOFFSETTO:-0700
TZNAME:PDT
DTSTART:20270314T100000
END:DAYLIGHT
BEGIN:STANDARD
TZOFFSETFROM:-0700
TZOFFSETTO:-0800
TZNAME:PST
DTSTART:20271107T090000
END:STANDARD
END:VTIMEZONE
BEGIN:VEVENT
DTSTART;VALUE=DATE:20260215
DTEND;VALUE=DATE:20260216
DTSTAMP:20260422T032608
CREATED:20260215T172841Z
LAST-MODIFIED:20260215T172841Z
UID:10017124-1771113600-1771199999@pdx.events
SUMMARY:An Evening With Jolie Holland
DESCRIPTION:Join us for an unforgettable evening with the talented Jolie Holland at Cravin’ Gravy Social Club in Portland\, Oregon\, on February 15\, 2026\, at 7:00 PM. Known for her unique blend of folk\, blues\, and Americana\, Holland will captivate audiences with her soulful voice and poetic songwriting. Located in one of Portland’s most vibrant neighborhoods\, Cravin’ Gravy offers an intimate setting perfect for live music. Don’t miss this opportunity to experience an engaging performance filled with emotional depth and rich narratives. Secure your tickets now and be part of a night to remember in the heart of Portland’s music scene.
URL:https://pdx.events/event/an-evening-with-jolie-holland-2026-02-15/
LOCATION:Cravin’ Gravy Social Club\, 665 N Tillamook St\, Portland\, OR\, United States
CATEGORIES:Music
ATTACH;FMTTYPE=image/jpeg:https://pdx.events/wp-content/uploads/2026/02/an-evening-with-jolie-holland-2026-02-15.jpg
END:VEVENT
BEGIN:VEVENT
DTSTART;VALUE=DATE:20251031
DTEND;VALUE=DATE:20251101
DTSTAMP:20260422T032608
CREATED:20251027T052806Z
LAST-MODIFIED:20251027T052806Z
UID:10015094-1761868800-1761955199@pdx.events
SUMMARY:Ryan Davis & the Roadhouse Band
DESCRIPTION:Join us for an electrifying night with Ryan Davis & the Roadhouse Band at Cravin’ Gravy Social Club in Portland\, Oregon\, on October 31\, 2025\, at 9:00 PM. This lively concert will showcase the band’s unique blend of rock\, blues\, and Americana\, promising an unforgettable experience for music lovers. Enjoy a vibrant atmosphere as the band performs original songs and popular covers\, sure to get you on your feet. Grab your tickets early and be part of an exciting evening filled with great music and community spirit. Don’t miss out on this chance to see a talented group live in action!
URL:https://pdx.events/event/ryan-davis-amp-the-roadhouse-band-2025-10-31/
LOCATION:Cravin’ Gravy Social Club\, 665 N Tillamook St\, Portland\, OR\, United States
CATEGORIES:Music
ATTACH;FMTTYPE=image/jpeg:https://pdx.events/wp-content/uploads/2025/10/ryan-davis-amp-the-roadhouse-band-2025-10-31.jpg
END:VEVENT
BEGIN:VEVENT
DTSTART;VALUE=DATE:20250621
DTEND;VALUE=DATE:20250622
DTSTAMP:20260422T032608
CREATED:20250618T151316Z
LAST-MODIFIED:20250618T151316Z
UID:10006587-1750464000-1750550399@pdx.events
SUMMARY:The Cabin Project
DESCRIPTION:Get ready to vibe at The Cabin Project\, taking over Cravin’ Gravy Social Club in Portland on June 21\, 2025\, at 5:00 PM. This isn’t just another show; it’s a full-on auditory experience that promises to shake up your senses. Dive into an eclectic mix of sounds that range from captivating melodies to foot-stomping beats. The Cabin Project redefines live music with a unique twist that makes every performance a must-see. Gather your crew\, grab your tickets\, and prepare for an unforgettable evening that mingles local flair with global influences. Don’t miss out—this will be the talk of the town!
URL:https://pdx.events/event/the-cabin-project/
LOCATION:Cravin’ Gravy Social Club\, 665 N Tillamook St\, Portland\, OR\, United States
CATEGORIES:Music
ATTACH;FMTTYPE=image/jpeg:https://pdx.events/wp-content/uploads/2025/06/228271750259596.jpg
END:VEVENT
END:VCALENDAR