BEGIN:VCALENDAR
VERSION:2.0
PRODID:-//PDX Events - ECPv6.15.7//NONSGML v1.0//EN
CALSCALE:GREGORIAN
METHOD:PUBLISH
X-ORIGINAL-URL:https://pdx.events
X-WR-CALDESC:Events for PDX Events
REFRESH-INTERVAL;VALUE=DURATION:PT1H
X-Robots-Tag:noindex
X-PUBLISHED-TTL:PT1H
BEGIN:VTIMEZONE
TZID:America/Los_Angeles
BEGIN:DAYLIGHT
TZOFFSETFROM:-0800
TZOFFSETTO:-0700
TZNAME:PDT
DTSTART:20240310T100000
END:DAYLIGHT
BEGIN:STANDARD
TZOFFSETFROM:-0700
TZOFFSETTO:-0800
TZNAME:PST
DTSTART:20241103T090000
END:STANDARD
BEGIN:DAYLIGHT
TZOFFSETFROM:-0800
TZOFFSETTO:-0700
TZNAME:PDT
DTSTART:20250309T100000
END:DAYLIGHT
BEGIN:STANDARD
TZOFFSETFROM:-0700
TZOFFSETTO:-0800
TZNAME:PST
DTSTART:20251102T090000
END:STANDARD
BEGIN:DAYLIGHT
TZOFFSETFROM:-0800
TZOFFSETTO:-0700
TZNAME:PDT
DTSTART:20260308T100000
END:DAYLIGHT
BEGIN:STANDARD
TZOFFSETFROM:-0700
TZOFFSETTO:-0800
TZNAME:PST
DTSTART:20261101T090000
END:STANDARD
BEGIN:DAYLIGHT
TZOFFSETFROM:-0800
TZOFFSETTO:-0700
TZNAME:PDT
DTSTART:20270314T100000
END:DAYLIGHT
BEGIN:STANDARD
TZOFFSETFROM:-0700
TZOFFSETTO:-0800
TZNAME:PST
DTSTART:20271107T090000
END:STANDARD
END:VTIMEZONE
BEGIN:VEVENT
DTSTART;VALUE=DATE:20260312
DTEND;VALUE=DATE:20260313
DTSTAMP:20260422T015310
CREATED:20260311T052738Z
LAST-MODIFIED:20260311T052738Z
UID:10017504-1773273600-1773359999@pdx.events
SUMMARY:Songwriters Soiree
DESCRIPTION:Experience an evening filled with creativity and community at Portland’s longest-standing open mic event dedicated to original music—the Songwriter Soiree! Hosted in its newly established venue at Bridgespace\, this event invites local musicians and songwriters to share their talents in an inclusive and supportive atmosphere. Whether you’re an aspiring artist or a passionate music lover\, come connect with like-minded individuals\, discover new sounds\, and celebrate the diverse talents of Portland’s music scene. Don’t miss this chance to foster new relationships while enjoying an unforgettable night of music!
URL:https://pdx.events/event/songwriters-soiree-2026-03-12/
LOCATION:Bridge Space\, 133 SE Madison St\, Portland\, OR\, United States
CATEGORIES:Music
ATTACH;FMTTYPE=image/jpeg:https://pdx.events/wp-content/uploads/2026/03/songwriters-soiree-2026-03-12.jpg
END:VEVENT
BEGIN:VEVENT
DTSTART;VALUE=DATE:20260312
DTEND;VALUE=DATE:20260313
DTSTAMP:20260422T015310
CREATED:20260310T052920Z
LAST-MODIFIED:20260310T052920Z
UID:10017471-1773273600-1773359999@pdx.events
SUMMARY:Songwriter Soiree
DESCRIPTION:Experience a captivating evening filled with music\, creativity\, and community at Portland’s esteemed open mic night for original songs\, now at its new venue: BRIDGESPACE! The Songwriter Soiree invites musicians and music lovers alike to come together in celebration of local talent. This event provides a welcoming platform for artists to share their original works\, connect with fellow creators\, and foster a sense of belonging within the vibrant Portland music scene. Whether you’re performing or simply enjoying the performances\, this is the perfect opportunity to immerse yourself in the rich cultural tapestry of Portland. Join us for an unforgettable night!
URL:https://pdx.events/event/songwriter-soiree-2026-03-12/
LOCATION:Bridge Space\, 133 SE Madison St\, Portland\, OR\, United States
CATEGORIES:Music
ATTACH;FMTTYPE=image/jpeg:https://pdx.events/wp-content/uploads/2026/03/songwriter-soiree-2026-03-12.jpg
END:VEVENT
BEGIN:VEVENT
DTSTART;VALUE=DATE:20251022
DTEND;VALUE=DATE:20251023
DTSTAMP:20260422T015310
CREATED:20251021T052925Z
LAST-MODIFIED:20251021T052925Z
UID:10014850-1761091200-1761177599@pdx.events
SUMMARY:Bouch Tuesdays: Free Kombucha Brewing Class at Bridgespace
DESCRIPTION:Discover the art of kombucha brewing at Bouch Tuesdays\, hosted every Tuesday at Bridge Space. This engaging\, free class invites health enthusiasts\, fermentation lovers\, and the naturally curious to delve into the world of this popular fermented beverage. Participants will enjoy hands-on learning as they explore the techniques and benefits of kombucha. Whether you’re looking to expand your culinary skills or simply learn more about this effervescent drink\, Bouch Tuesdays offers a welcoming environment for all levels of experience. Join us to ignite your passion for brewing!
URL:https://pdx.events/event/bouch-tuesdays-free-kombucha-brewing-class-at-bridgespace-2025-10-22/
LOCATION:Bridge Space\, 133 SE Madison St\, Portland\, OR\, United States
CATEGORIES:Workshop And Classes
ATTACH;FMTTYPE=image/jpeg:https://pdx.events/wp-content/uploads/2025/10/bouch-tuesdays-free-kombucha-brewing-class-at-bridgespace-2025-10-22.jpg
END:VEVENT
BEGIN:VEVENT
DTSTART;VALUE=DATE:20250902
DTEND;VALUE=DATE:20250903
DTSTAMP:20260422T015310
CREATED:20250902T040738Z
LAST-MODIFIED:20250902T040738Z
UID:10010612-1756771200-1756857599@pdx.events
SUMMARY:Kirtan Meditation & Plant Based Dinner (Beginners welcome)
DESCRIPTION:Dive into a night of relaxation and rhythm at our laid-back mantra meditation session. Connect with your inner self as you meditate\, unleash your creativity through music\, and forge new friendships in a chill atmosphere. Whether you’re a seasoned meditator or just curious about the practice\, this event welcomes all vibes. Experience how the power of sound and community can elevate your spirit and calm your mind. Join us for an evening that’s all about peace\, expression\, and connection—leave the stress at the door and come find your flow!
URL:https://pdx.events/event/kirtan-meditation-plant-based-dinner-beginners-welcome-3/
LOCATION:Bridge Space\, 133 SE Madison St\, Portland\, OR\, United States
END:VEVENT
BEGIN:VEVENT
DTSTART;VALUE=DATE:20250902
DTEND;VALUE=DATE:20250903
DTSTAMP:20260422T015310
CREATED:20250902T034612Z
LAST-MODIFIED:20250902T034612Z
UID:10010594-1756771200-1756857599@pdx.events
SUMMARY:Kirtan Meditation & Plant Based Dinner (Beginners welcome)
DESCRIPTION:Unwind and get your zen on at our chill mantra meditation evening! Join us for a night of relaxing vibes\, where you can let go of stress and reclaim your inner peace. Dive into the rhythmic flow of music\, perfect for grounding your thoughts and expressing your creativity. Connect with like-minded souls\, build new friendships\, and elevate your spirit—all in a laid-back atmosphere designed for self-discovery. Whether you’re a meditation novice or a seasoned pro\, this event promises to refresh your mind and inspire. Come as you are and let the sound of your voice lead the way!
URL:https://pdx.events/event/kirtan-meditation-plant-based-dinner-beginners-welcome-2/
LOCATION:Bridge Space\, 133 SE Madison St\, Portland\, OR\, United States
END:VEVENT
BEGIN:VEVENT
DTSTART;VALUE=DATE:20250826
DTEND;VALUE=DATE:20250827
DTSTAMP:20260422T015310
CREATED:20250826T155514Z
LAST-MODIFIED:20250826T155515Z
UID:10010114-1756166400-1756252799@pdx.events
SUMMARY:Kirtan Meditation & Plant Based Dinner (Beginners welcome)
DESCRIPTION:Dive into a night of chill vibes and good energy at our mantra meditation session! This isn’t just your average gathering—it’s a space to unwind\, connect\, and create. Experience the soothing power of meditation while jammin’ to live music and forming genuine friendships. Whether you’re a seasoned meditator or a curious newbie\, everyone is welcome to join this laid-back community experience. Get ready to find your flow and leave the stress behind. This is your chance to recharge and harmonize with like-minded souls. Don’t miss out!
URL:https://pdx.events/event/kirtan-meditation-plant-based-dinner-beginners-welcome/
LOCATION:Bridge Space\, 133 SE Madison St\, Portland\, OR\, United States
CATEGORIES:Social
ATTACH;FMTTYPE=image/jpeg:https://pdx.events/wp-content/uploads/2025/08/300661756223715.jpg
END:VEVENT
END:VCALENDAR